BEGIN:VCALENDAR
VERSION:2.0
PRODID:-//Tennisabteilung - ECPv6.15.20//NONSGML v1.0//EN
CALSCALE:GREGORIAN
METHOD:PUBLISH
X-ORIGINAL-URL:https://jahn-tennis.de
X-WR-CALDESC:Veranstaltungen für Tennisabteilung
REFRESH-INTERVAL;VALUE=DURATION:PT1H
X-Robots-Tag:noindex
X-PUBLISHED-TTL:PT1H
BEGIN:VTIMEZONE
TZID:Europe/Berlin
BEGIN:DAYLIGHT
TZOFFSETFROM:+0100
TZOFFSETTO:+0200
TZNAME:CEST
DTSTART:20250330T010000
END:DAYLIGHT
BEGIN:STANDARD
TZOFFSETFROM:+0200
TZOFFSETTO:+0100
TZNAME:CET
DTSTART:20251026T010000
END:STANDARD
BEGIN:DAYLIGHT
TZOFFSETFROM:+0100
TZOFFSETTO:+0200
TZNAME:CEST
DTSTART:20260329T010000
END:DAYLIGHT
BEGIN:STANDARD
TZOFFSETFROM:+0200
TZOFFSETTO:+0100
TZNAME:CET
DTSTART:20261025T010000
END:STANDARD
BEGIN:DAYLIGHT
TZOFFSETFROM:+0100
TZOFFSETTO:+0200
TZNAME:CEST
DTSTART:20270328T010000
END:DAYLIGHT
BEGIN:STANDARD
TZOFFSETFROM:+0200
TZOFFSETTO:+0100
TZNAME:CET
DTSTART:20271031T010000
END:STANDARD
END:VTIMEZONE
BEGIN:VEVENT
DTSTART;TZID=Europe/Berlin:20260301T140000
DTEND;TZID=Europe/Berlin:20260301T200000
DTSTAMP:20260419T170354
CREATED:20260125T164013Z
LAST-MODIFIED:20260205T220931Z
UID:6036-1772373600-1772395200@jahn-tennis.de
SUMMARY:Winter Tennis – Mexican Hot Shot Tennis Day
DESCRIPTION:Am Sonntag\, 1. März 2026 wird es heiß auf unserer Tennisanlage!\nDie Tennisabteilung der SpVgg Jahn Forchheim lädt euch herzlich ein zum \nWinter Tennis – Mexican Hot Shot Tennis Day\nFreut euch auf einen sportlich-geselligen Nachmittag mit viel Tennis\, guter Laune und mexikanischem Flair – für Groß und Klein\, Mitglieder und Nichtmitglieder. Bestaunt unsere neu ausgestattete Terrasse und werft einen Blick in unser gemütliches Vereinsheim. Genießt lustigen Tennissport und lasst euch mit leckerem Essen und Getränken verwöhnen. \n\n📅 Termin & Ort\n🕑 Beginn: ab 14:00 Uhr\n📍 Treffpunkt: Tennisanlage SpVgg Jahn Forchheim\nKaiser-Heinrich-Straße 42 \n\n🎾 Tennis & Action ab 14 Uhr\n\nMexican Heat Turnier (2 Personen\, 1 Schläger\, Mixed\, viel Spaß und Bewegung)\nKids-Treff\nSchnuppertennis für jedermann\nTennis-Action & Spaß auf und neben dem Platz\n\n\n🌭🍺 Gemütliches Beisammensein ab 15:30 Uhr\nAb 15:30 Uhr laden wir euch ein zum entspannten Zusammensitzen bei: \n\nChili\nBratwürsten\nSalitos\nBier und Softgetränken\nund Bierpong\n\n\n❄️☀️ Gut zu wissen\n✅ Findet bei jedem Wetter statt\n👨‍👩‍👧‍👦 Familien & Kinder herzlich willkommen\n🎉 Spaß\, Sport und Geselligkeit garantiert \n\n👉 Kommt vorbei\, bringt Freunde mit und erlebt Winter Tennis mit mexikanischem Feuer!\nWir freuen uns auf euch!\nEure Tennisabteilung der SpVgg Jahn Forchheim
URL:https://jahn-tennis.de/termine/terrasseneinweihung-mit-tennisprogramm-naehere-infos-folgen/
LOCATION:SpVgg Jahn Forchheim e.V. – Tennisabteilung 2024\, Kaiser-Heinrich-Straße 42\, Forchheim\, Bayern\, 91301\, Deutschland
CATEGORIES:Event
ATTACH;FMTTYPE=image/png:https://jahn-tennis.de/wp-content/uploads/2026/01/Winter-trifft-auf-Mexiko_-Tennis-Spass.png
ORGANIZER;CN="SpVgg Jahn Forchheim e.V. %E2%80%93 Tennisabteilung":MAILTO:info@jahn-tennis.de
END:VEVENT
BEGIN:VEVENT
DTSTART;TZID=Europe/Berlin:20260315T090000
DTEND;TZID=Europe/Berlin:20260315T170000
DTSTAMP:20260419T170354
CREATED:20260125T162809Z
LAST-MODIFIED:20260125T163753Z
UID:6028-1773565200-1773594000@jahn-tennis.de
SUMMARY:Erste-Hilfe-Kurs in Kooperation mit dem ASB Forchheim
DESCRIPTION:Wir freuen uns sehr\, gemeinsam mit dem ASB Forchheim einen Erste-Hilfe-Kurs am Sonntag 15.03.2026 von 9.00 – ca. 17.00 Uhr anbieten zu können\, der auch für den Führerscheinerwerb anerkannt ist. \n\n\n\nDie Sicherheit unserer Sportlerinnen und Sport liegt uns sehr am Herzen. Deshalb haben wir für euch diesen Erste Hilfe Kurs organisiert. Der Lehrgang vermittelt die grundlegenden Maßnahmen der unmittelbaren Lebensrettung in Theorie und Praxis. Ziel ist es\, den Teilnehmenden Sicherheit im Umgang mit Notfallsituationen zu geben und lebensrettende Handgriffe praxisnah zu üben. \n\n\n\nLehrgangsinhalte\n\n\n\n\nVerhalten an Unfallstellen\, Sportverletzungen\n\n\n\nAbsetzen eines Notrufs\n\n\n\nVerhalten bei Bewusstlosigkeit\n\n\n\nBehandlung von Atem- und Kreislaufstörungen\n\nBeatmung\n\n\n\nHerz-Lungen-Wiederbelebung\n\n\n\nEinsatz unseres Defibrillators\n\n\n\n\n\nBlutstillung bei lebensbedrohlichen Blutungen\n\n\n\nSchockbehandlung\n\n\n\nVersorgung von Haut- und Knochenverletzungen\n\n\n\nVerbrennungen und Erfrierungen\n\n\n\nHitzenotfälle (Sonnenstich\, Hitzschlag)\n\n\n\nVerletzungen des Bauchraums\, der Wirbelsäule und des Beckens\n\n\n\nAllergische Reaktionen und Insektenstiche\n\n\n\nAkute Atemnot und Asthma\n\n\n\npraktische Übungen\n\n\n\n\nFür Getränke und Verpflegung auf Spendenbasis ist gesorgt. \n\n\n\nTeilnahmegebühr\n\n\n\n\nMitglieder: 30 €\n\n\n\nNichtmitglieder: 60 €\n\n\n\n\nDie Teilnehmerzahl ist auf 18 Personen begrenzt. Bitte die Teilnahmegebühr in bar mitbringen. \n\n\n\nAnmeldung\n\n\n\nWir bitten um verbindliche Anmeldung bis zum 10.03.26 per E-Mail an: 📧 info@jahn-tennis.de \n\nWir freuen uns über eine rege Teilnahme – denn im Ernstfall zählt jede Minute. \n\n\n\nSportliche Grüße Eure Tennisabteilung
URL:https://jahn-tennis.de/termine/erste-hilfe-kurs-in-kooperation-mit-dem-asb-forchheim/
LOCATION:SpVgg Jahn Forchheim e.V. – Tennisabteilung 2024\, Kaiser-Heinrich-Straße 42\, Forchheim\, Bayern\, 91301\, Deutschland
CATEGORIES:Event
ATTACH;FMTTYPE=image/png:https://jahn-tennis.de/wp-content/uploads/2026/01/ChatGPT-Image-19.-Jan.-2026-14_07_15.png
ORGANIZER;CN="SpVgg Jahn Forchheim e.V. %E2%80%93 Tennisabteilung":MAILTO:info@jahn-tennis.de
END:VEVENT
END:VCALENDAR